BEGIN:VCALENDAR
VERSION:2.0
PRODID:-//Samma, Centrum voor Ontwikkeling &amp; Groei - ECPv6.15.20//NONSGML v1.0//EN
CALSCALE:GREGORIAN
METHOD:PUBLISH
X-ORIGINAL-URL:https://sammacentrum.com
X-WR-CALDESC:Evenementen voor Samma, Centrum voor Ontwikkeling &amp; Groei
REFRESH-INTERVAL;VALUE=DURATION:PT1H
X-Robots-Tag:noindex
X-PUBLISHED-TTL:PT1H
BEGIN:VTIMEZONE
TZID:UTC
BEGIN:STANDARD
TZOFFSETFROM:+0000
TZOFFSETTO:+0000
TZNAME:UTC
DTSTART:20250101T000000
END:STANDARD
END:VTIMEZONE
BEGIN:VEVENT
DTSTART;TZID=UTC:20260331T100000
DTEND;TZID=UTC:20260331T160000
DTSTAMP:20260419T123341
CREATED:20260326T205429Z
LAST-MODIFIED:20260326T205429Z
UID:2089-1774951200-1774972800@sammacentrum.com
SUMMARY:Cursus Wat wil ik in mijn leven
DESCRIPTION:
URL:https://sammacentrum.com/event/cursus-wat-wil-ik-in-mijn-leven/
LOCATION:Zandhoven\, Belgium
END:VEVENT
END:VCALENDAR