BEGIN:VCALENDAR
VERSION:2.0
PRODID:-//Samma, Centrum voor Ontwikkeling &amp; Groei - ECPv6.15.20//NONSGML v1.0//EN
CALSCALE:GREGORIAN
METHOD:PUBLISH
X-WR-CALNAME:Samma, Centrum voor Ontwikkeling &amp; Groei
X-ORIGINAL-URL:https://sammacentrum.com
X-WR-CALDESC:Evenementen voor Samma, Centrum voor Ontwikkeling &amp; Groei
REFRESH-INTERVAL;VALUE=DURATION:PT1H
X-Robots-Tag:noindex
X-PUBLISHED-TTL:PT1H
BEGIN:VTIMEZONE
TZID:UTC
BEGIN:STANDARD
TZOFFSETFROM:+0000
TZOFFSETTO:+0000
TZNAME:UTC
DTSTART:20250101T000000
END:STANDARD
END:VTIMEZONE
BEGIN:VEVENT
DTSTART;TZID=UTC:20260920T100000
DTEND;TZID=UTC:20260920T160000
DTSTAMP:20260419T175419
CREATED:20260326T205201Z
LAST-MODIFIED:20260326T205201Z
UID:2085-1789898400-1789920000@sammacentrum.com
SUMMARY:Verdiepingsmodule Energetisch Werk: Relaxx
DESCRIPTION:
URL:https://sammacentrum.com/event/verdiepingsmodule-energetisch-werk-relaxx/
LOCATION:Zandhoven\, Belgium
END:VEVENT
END:VCALENDAR