BEGIN:VCALENDAR
VERSION:2.0
PRODID:-//Samma, Centrum voor Ontwikkeling &amp; Groei - ECPv6.15.20//NONSGML v1.0//EN
CALSCALE:GREGORIAN
METHOD:PUBLISH
X-WR-CALNAME:Samma, Centrum voor Ontwikkeling &amp; Groei
X-ORIGINAL-URL:https://sammacentrum.com
X-WR-CALDESC:Evenementen voor Samma, Centrum voor Ontwikkeling &amp; Groei
REFRESH-INTERVAL;VALUE=DURATION:PT1H
X-Robots-Tag:noindex
X-PUBLISHED-TTL:PT1H
BEGIN:VTIMEZONE
TZID:UTC
BEGIN:STANDARD
TZOFFSETFROM:+0000
TZOFFSETTO:+0000
TZNAME:UTC
DTSTART:20260101T000000
END:STANDARD
END:VTIMEZONE
BEGIN:VEVENT
DTSTART;TZID=UTC:20270410T100000
DTEND;TZID=UTC:20270410T160000
DTSTAMP:20260419T211529
CREATED:20260326T210520Z
LAST-MODIFIED:20260326T210520Z
UID:2096-1807351200-1807372800@sammacentrum.com
SUMMARY:Opleiding Compassie-trainer lesdag 6
DESCRIPTION:
URL:https://sammacentrum.com/event/opleiding-compassie-trainer-lesdag-6/
LOCATION:Bunnik\, Smalleweg 8A\, Bunnik\, 3981 EG\, Nederland
END:VEVENT
BEGIN:VEVENT
DTSTART;TZID=UTC:20270515T100000
DTEND;TZID=UTC:20270515T160000
DTSTAMP:20260419T211529
CREATED:20260326T210606Z
LAST-MODIFIED:20260326T210618Z
UID:2106-1810375200-1810396800@sammacentrum.com
SUMMARY:Opleiding Compassie-trainer lesdag 7
DESCRIPTION:
URL:https://sammacentrum.com/event/opleiding-compassie-trainer-lesdag-7/
LOCATION:Bunnik\, Smalleweg 8A\, Bunnik\, 3981 EG\, Nederland
END:VEVENT
END:VCALENDAR