BEGIN:VCALENDAR
VERSION:2.0
PRODID:-//Samma, Centrum voor Ontwikkeling &amp; Groei - ECPv6.15.20//NONSGML v1.0//EN
CALSCALE:GREGORIAN
METHOD:PUBLISH
X-WR-CALNAME:Samma, Centrum voor Ontwikkeling &amp; Groei
X-ORIGINAL-URL:https://sammacentrum.com
X-WR-CALDESC:Evenementen voor Samma, Centrum voor Ontwikkeling &amp; Groei
REFRESH-INTERVAL;VALUE=DURATION:PT1H
X-Robots-Tag:noindex
X-PUBLISHED-TTL:PT1H
BEGIN:VTIMEZONE
TZID:UTC
BEGIN:STANDARD
TZOFFSETFROM:+0000
TZOFFSETTO:+0000
TZNAME:UTC
DTSTART:20210101T000000
END:STANDARD
END:VTIMEZONE
BEGIN:VEVENT
DTSTART;VALUE=DATE:20240127
DTEND;VALUE=DATE:20240128
DTSTAMP:20260420T033316
CREATED:20230824T211308Z
LAST-MODIFIED:20231116T121456Z
UID:1049-1706313600-1706399999@sammacentrum.com
SUMMARY:Familie-opstellingen in Turnhout\, je kan een opstelling reserveren
DESCRIPTION:
URL:https://sammacentrum.com/event/familie-opstellingen-in-turnhout-je-kan-een-opstelling-reserveren-3/
LOCATION:Turnhout\, België
END:VEVENT
BEGIN:VEVENT
DTSTART;TZID=UTC:20231126T100000
DTEND;TZID=UTC:20231126T160000
DTSTAMP:20260420T033316
CREATED:20230613T112203Z
LAST-MODIFIED:20230613T112203Z
UID:956-1700992800-1701014400@sammacentrum.com
SUMMARY:Dzogchen meditatiedag
DESCRIPTION:Tijdens de workshop gaan we aan de slag met de basisprincipes van Rigpa. We gaan op zoek naar ons ware zelf.Rigpa Basis omvat de volgende onderdelen:* Introductie Boeddhisme* Introductie Rigpa* Meditaties en uitleg in de onderstaande volgorde:​        * Meditatie vanuit de huidige situatie        * Meegaan op de energie van het geheel        * Semde: aspect van de Mind en het leren loskomen van de Mind        * Longde: aspect van tijd en ruimte\, loskomen van beperkingen van          tijd en ruimteTijdens de les volgt eerst steeds een uitleg over het onderwerp. Daarna gaan we aan de slag met meditatie. Na elke meditatie wisselen we ervaringen uit en worden tips gegeven om de beoefening verder te intensiveren. ​Aan het einde van de workshop heb je geleerd wat ‘eenheid’ inhoudt en hoe je zelf deze staat van zijn door meditatie kan onderzoeken. Dat leidt tot meer rust en inzicht in het dagelijkse leven.
URL:https://sammacentrum.com/event/dzogchen-meditatiedag/
LOCATION:Turnhout\, België
END:VEVENT
BEGIN:VEVENT
DTSTART;TZID=UTC:20231125T100000
DTEND;TZID=UTC:20231125T160000
DTSTAMP:20260420T033316
CREATED:20230824T211602Z
LAST-MODIFIED:20230824T211602Z
UID:1052-1700906400-1700928000@sammacentrum.com
SUMMARY:Start opleiding Energetisch Werk
DESCRIPTION:
URL:https://sammacentrum.com/event/start-opleiding-energetisch-werk/
LOCATION:Bunnik\, Smalleweg 8A\, Bunnik\, 3981 EG\, Nederland
END:VEVENT
BEGIN:VEVENT
DTSTART;VALUE=DATE:20231105
DTEND;VALUE=DATE:20231106
DTSTAMP:20260420T033316
CREATED:20230824T211208Z
LAST-MODIFIED:20230824T211208Z
UID:1047-1699142400-1699228799@sammacentrum.com
SUMMARY:Familie-opstellingen in Turnhout\, je kan een opstelling reserveren
DESCRIPTION:
URL:https://sammacentrum.com/event/familie-opstellingen-in-turnhout-je-kan-een-opstelling-reserveren-2/
LOCATION:Turnhout\, België
END:VEVENT
BEGIN:VEVENT
DTSTART;TZID=UTC:20231022T140000
DTEND;TZID=UTC:20231022T170000
DTSTAMP:20260420T033316
CREATED:20230613T111932Z
LAST-MODIFIED:20230613T111932Z
UID:954-1697983200-1697994000@sammacentrum.com
SUMMARY:Workshop Van Ontspanning naar Helderheid in 3 stappen
DESCRIPTION:Meditatie wordt veelal ingezet om te kunnen ontspannen. En dat is prachtig. Maar met meditatie kan nog zoveel meer gedaan worden. Het Tibetaans Boeddhisme heeft daar een aantal mooie en diepgaande methoden voor: Geleide meditaties voor ontspanning\, Shiné-meditatie voor focus en aandacht\, Dzogchen-meditatie voor inzicht en helderheid. \nIn deze workshop gaan we aan de slag met alle drie de methodes. We vertrekken vanuit visualisatie voor ontspanning en bewegen via Shiné naar Dzogchen. Je leert wat deze methoden inhouden en hoe je ze kan toepassen. Je gaat naar huis met de kennis én ervaring over deze Tibetaanse methoden als tool voor meer focus en helder inzicht. Je ontdekt welke vorm van meditatie het meest geschikt voor jou is en waarom. \nPetra Verhoef is erkend leraar Shiné meditatie en één van de weinige mensen in het westen die officiële toestemming heeft om Dzogchen te geven.
URL:https://sammacentrum.com/event/workshop-van-ontspanning-naar-helderheid-in-3-stappen/
LOCATION:Turnhout\, België
END:VEVENT
BEGIN:VEVENT
DTSTART;TZID=UTC:20231022T100000
DTEND;TZID=UTC:20231022T130000
DTSTAMP:20260420T033316
CREATED:20230613T111718Z
LAST-MODIFIED:20230613T111718Z
UID:952-1697968800-1697979600@sammacentrum.com
SUMMARY:Workshop Bescherm Jezelf
DESCRIPTION:
URL:https://sammacentrum.com/event/workshop-bescherm-jezelf/
LOCATION:Turnhout\, België
END:VEVENT
BEGIN:VEVENT
DTSTART;VALUE=DATE:20231008
DTEND;VALUE=DATE:20231009
DTSTAMP:20260420T033316
CREATED:20230824T211059Z
LAST-MODIFIED:20230824T211059Z
UID:1045-1696723200-1696809599@sammacentrum.com
SUMMARY:Familie-opstellingen in Turnhout\, je kan een opstelling reserveren
DESCRIPTION:
URL:https://sammacentrum.com/event/familie-opstellingen-in-turnhout-je-kan-een-opstelling-reserveren/
LOCATION:Turnhout\, België
END:VEVENT
BEGIN:VEVENT
DTSTART;TZID=UTC:20230920T190000
DTEND;TZID=UTC:20230920T213000
DTSTAMP:20260420T033316
CREATED:20230824T210541Z
LAST-MODIFIED:20230824T210541Z
UID:1043-1695236400-1695245400@sammacentrum.com
SUMMARY:Start Meditatiecursus Voluit Leven\, 3 avonden
DESCRIPTION:
URL:https://sammacentrum.com/event/start-meditatiecursus-voluit-leven-3-avonden/
LOCATION:Bunnik\, Smalleweg 8A\, Bunnik\, 3981 EG\, Nederland
END:VEVENT
BEGIN:VEVENT
DTSTART;TZID=UTC:20230905T080000
DTEND;TZID=UTC:20230915T200000
DTSTAMP:20260420T033316
CREATED:20230225T215332Z
LAST-MODIFIED:20230225T215332Z
UID:933-1693900800-1694808000@sammacentrum.com
SUMMARY:Meditatiereis Macedonië
DESCRIPTION:Ga je mee mediteren in Macedonië? Hier kom je volledig tot rust. \nDeze reis is helaas al volgeboekt.
URL:https://sammacentrum.com/event/meditatiereis-macedonie-2/
END:VEVENT
BEGIN:VEVENT
DTSTART;TZID=UTC:20230628T080000
DTEND;TZID=UTC:20230705T200000
DTSTAMP:20260420T033316
CREATED:20230225T214958Z
LAST-MODIFIED:20230225T214958Z
UID:929-1687939200-1688587200@sammacentrum.com
SUMMARY:Intuïtiereis Macedonië
DESCRIPTION:Ga mee naar Macedonië en ontdek jouw spirituele kwaliteiten
URL:https://sammacentrum.com/event/intuitiereis-macedonie-3/
END:VEVENT
BEGIN:VEVENT
DTSTART;TZID=UTC:20230619T080000
DTEND;TZID=UTC:20230626T200000
DTSTAMP:20260420T033316
CREATED:20230225T214810Z
LAST-MODIFIED:20230225T215406Z
UID:927-1687161600-1687809600@sammacentrum.com
SUMMARY:Intuïtiereis Macedonië
DESCRIPTION:Ga mee naar Macedonië en ontdek jouw spirituele kwaliteiten. \nDeze reis is helaas al volgeboekt
URL:https://sammacentrum.com/event/intuitiereis-macedonie-2/
END:VEVENT
BEGIN:VEVENT
DTSTART;TZID=UTC:20230611T100000
DTEND;TZID=UTC:20230611T160000
DTSTAMP:20260420T033316
CREATED:20221024T165308Z
LAST-MODIFIED:20230201T193524Z
UID:340-1686477600-1686499200@sammacentrum.com
SUMMARY:START Opleiding Energetisch Werk Vervolg
DESCRIPTION:
URL:https://sammacentrum.com/event/opleiding-energetisch-werk-les-1/
LOCATION:Turnhout\, België
END:VEVENT
BEGIN:VEVENT
DTSTART;TZID=UTC:20230603T093000
DTEND;TZID=UTC:20230603T163000
DTSTAMP:20260420T033316
CREATED:20221228T120254Z
LAST-MODIFIED:20230225T215535Z
UID:513-1685784600-1685809800@sammacentrum.com
SUMMARY:Familie-opstellingen dag (u kunt een opstelling aanvragen)
DESCRIPTION:
URL:https://sammacentrum.com/event/familie-opstellingen-dag-u-kunt-een-opstelling-aanvragen-4/
LOCATION:Turnhout\, België
END:VEVENT
BEGIN:VEVENT
DTSTART;TZID=UTC:20230524T080000
DTEND;TZID=UTC:20230531T200000
DTSTAMP:20260420T033316
CREATED:20230225T214531Z
LAST-MODIFIED:20230225T214531Z
UID:925-1684915200-1685563200@sammacentrum.com
SUMMARY:Intuïtiereis Macedonië
DESCRIPTION:De eerste intuïtiereis van dit seizoen. Ga mee naar Macedonië en ontdek jouw spirituele kwaliteiten
URL:https://sammacentrum.com/event/intuitiereis-macedonie/
END:VEVENT
BEGIN:VEVENT
DTSTART;TZID=UTC:20230512T110000
DTEND;TZID=UTC:20230512T130000
DTSTAMP:20260420T033316
CREATED:20221228T121644Z
LAST-MODIFIED:20221228T121750Z
UID:523-1683889200-1683896400@sammacentrum.com
SUMMARY:Workshop Van Ontspanning naar Helderheid in 3 stappen (op Yogafestival)
DESCRIPTION:
URL:https://sammacentrum.com/event/workshop-van-ontspanning-naar-helderheid-in-3-stappen-op-yogafestival/
END:VEVENT
BEGIN:VEVENT
DTSTART;TZID=UTC:20230430T100000
DTEND;TZID=UTC:20230430T160000
DTSTAMP:20260420T033316
CREATED:20230201T194046Z
LAST-MODIFIED:20230201T194046Z
UID:714-1682848800-1682870400@sammacentrum.com
SUMMARY:Start Verdiepingscursus Channeling & Mediumschap (besloten groep)
DESCRIPTION:
URL:https://sammacentrum.com/event/start-verdiepingscursus-channeling-mediumschap-besloten-groep/
LOCATION:Neerpelt\, Neerpelt\, België
END:VEVENT
BEGIN:VEVENT
DTSTART;TZID=UTC:20230416T093000
DTEND;TZID=UTC:20230416T163000
DTSTAMP:20260420T033316
CREATED:20221227T204244Z
LAST-MODIFIED:20230225T215628Z
UID:489-1681637400-1681662600@sammacentrum.com
SUMMARY:Familie-opstellingen dag (u kunt een opstelling aanvragen)
DESCRIPTION:
URL:https://sammacentrum.com/event/opleiding-energetisch-werk-basis-les-3/
LOCATION:Turnhout\, België
END:VEVENT
BEGIN:VEVENT
DTSTART;TZID=UTC:20230325T100000
DTEND;TZID=UTC:20230325T160000
DTSTAMP:20260420T033316
CREATED:20221228T121124Z
LAST-MODIFIED:20230201T193635Z
UID:517-1679738400-1679760000@sammacentrum.com
SUMMARY:Start Verdiepingscursus Channeling & Mediumschap gevorderden (besloten groep)
DESCRIPTION:
URL:https://sammacentrum.com/event/start-verdiepingscursus-contact-met-andere-dimensies-besloten-groep/
LOCATION:Neerpelt\, Neerpelt\, België
END:VEVENT
BEGIN:VEVENT
DTSTART;TZID=UTC:20230311T093000
DTEND;TZID=UTC:20230311T163000
DTSTAMP:20260420T033316
CREATED:20221228T115943Z
LAST-MODIFIED:20230201T194235Z
UID:509-1678527000-1678552200@sammacentrum.com
SUMMARY:Familie-opstellingen dag (u kunt een opstelling aanvragen)
DESCRIPTION:
URL:https://sammacentrum.com/event/familie-opstellingen-dag-u-kunt-een-opstelling-aanvragen-3/
LOCATION:Turnhout\, België
END:VEVENT
BEGIN:VEVENT
DTSTART;TZID=UTC:20230210T080000
DTEND;TZID=UTC:20230210T170000
DTSTAMP:20260420T033316
CREATED:20221228T121446Z
LAST-MODIFIED:20230201T192620Z
UID:521-1676016000-1676048400@sammacentrum.com
SUMMARY:Start Shiné meditatie 2
DESCRIPTION:
URL:https://sammacentrum.com/event/start-shine-meditatie-2/
END:VEVENT
BEGIN:VEVENT
DTSTART;TZID=UTC:20230208T190000
DTEND;TZID=UTC:20230208T213000
DTSTAMP:20260420T033316
CREATED:20221228T120842Z
LAST-MODIFIED:20230201T193143Z
UID:515-1675882800-1675891800@sammacentrum.com
SUMMARY:Start Meditatiecursus Bunnik
DESCRIPTION:
URL:https://sammacentrum.com/event/https-innerlicht-nl-meditatiecursus-indoor-meditatie/
LOCATION:Bunnik\, Smalleweg 8A\, Bunnik\, 3981 EG\, Nederland
END:VEVENT
BEGIN:VEVENT
DTSTART;TZID=UTC:20230114T093000
DTEND;TZID=UTC:20230114T163000
DTSTAMP:20260420T033316
CREATED:20221227T204642Z
LAST-MODIFIED:20221228T115423Z
UID:486-1673688600-1673713800@sammacentrum.com
SUMMARY:Familie-opstellingen dag (u kunt een opstelling aanvragen)
DESCRIPTION:
URL:https://sammacentrum.com/event/familie-opstellingen-dag-u-kunt-een-opstelling-aanvragen/
LOCATION:Geel\, België
END:VEVENT
BEGIN:VEVENT
DTSTART;TZID=UTC:20221028T130000
DTEND;TZID=UTC:20221028T170000
DTSTAMP:20260420T033316
CREATED:20221228T114407Z
LAST-MODIFIED:20221228T114407Z
UID:343-1666962000-1666976400@sammacentrum.com
SUMMARY:Cursus Werken met je Intuïtie (Vol)
DESCRIPTION:
URL:https://sammacentrum.com/event/cursus-werken-met-je-intuitie-vol/
LOCATION:Breda\, Breda\, Nederland
END:VEVENT
END:VCALENDAR