BEGIN:VCALENDAR
VERSION:2.0
PRODID:-//Samma, Centrum voor Ontwikkeling &amp; Groei - ECPv6.15.20//NONSGML v1.0//EN
CALSCALE:GREGORIAN
METHOD:PUBLISH
X-WR-CALNAME:Samma, Centrum voor Ontwikkeling &amp; Groei
X-ORIGINAL-URL:https://sammacentrum.com
X-WR-CALDESC:Evenementen voor Samma, Centrum voor Ontwikkeling &amp; Groei
REFRESH-INTERVAL;VALUE=DURATION:PT1H
X-Robots-Tag:noindex
X-PUBLISHED-TTL:PT1H
BEGIN:VTIMEZONE
TZID:UTC
BEGIN:STANDARD
TZOFFSETFROM:+0000
TZOFFSETTO:+0000
TZNAME:UTC
DTSTART:20210101T000000
END:STANDARD
END:VTIMEZONE
BEGIN:VEVENT
DTSTART;TZID=UTC:20230430T100000
DTEND;TZID=UTC:20230430T160000
DTSTAMP:20260420T050316
CREATED:20230201T194046Z
LAST-MODIFIED:20230201T194046Z
UID:714-1682848800-1682870400@sammacentrum.com
SUMMARY:Start Verdiepingscursus Channeling & Mediumschap (besloten groep)
DESCRIPTION:
URL:https://sammacentrum.com/event/start-verdiepingscursus-channeling-mediumschap-besloten-groep/
LOCATION:Neerpelt\, Neerpelt\, België
END:VEVENT
BEGIN:VEVENT
DTSTART;TZID=UTC:20230416T093000
DTEND;TZID=UTC:20230416T163000
DTSTAMP:20260420T050316
CREATED:20221227T204244Z
LAST-MODIFIED:20230225T215628Z
UID:489-1681637400-1681662600@sammacentrum.com
SUMMARY:Familie-opstellingen dag (u kunt een opstelling aanvragen)
DESCRIPTION:
URL:https://sammacentrum.com/event/opleiding-energetisch-werk-basis-les-3/
LOCATION:Turnhout\, België
END:VEVENT
BEGIN:VEVENT
DTSTART;TZID=UTC:20230325T100000
DTEND;TZID=UTC:20230325T160000
DTSTAMP:20260420T050316
CREATED:20221228T121124Z
LAST-MODIFIED:20230201T193635Z
UID:517-1679738400-1679760000@sammacentrum.com
SUMMARY:Start Verdiepingscursus Channeling & Mediumschap gevorderden (besloten groep)
DESCRIPTION:
URL:https://sammacentrum.com/event/start-verdiepingscursus-contact-met-andere-dimensies-besloten-groep/
LOCATION:Neerpelt\, Neerpelt\, België
END:VEVENT
BEGIN:VEVENT
DTSTART;TZID=UTC:20230311T093000
DTEND;TZID=UTC:20230311T163000
DTSTAMP:20260420T050316
CREATED:20221228T115943Z
LAST-MODIFIED:20230201T194235Z
UID:509-1678527000-1678552200@sammacentrum.com
SUMMARY:Familie-opstellingen dag (u kunt een opstelling aanvragen)
DESCRIPTION:
URL:https://sammacentrum.com/event/familie-opstellingen-dag-u-kunt-een-opstelling-aanvragen-3/
LOCATION:Turnhout\, België
END:VEVENT
BEGIN:VEVENT
DTSTART;TZID=UTC:20230210T080000
DTEND;TZID=UTC:20230210T170000
DTSTAMP:20260420T050316
CREATED:20221228T121446Z
LAST-MODIFIED:20230201T192620Z
UID:521-1676016000-1676048400@sammacentrum.com
SUMMARY:Start Shiné meditatie 2
DESCRIPTION:
URL:https://sammacentrum.com/event/start-shine-meditatie-2/
END:VEVENT
BEGIN:VEVENT
DTSTART;TZID=UTC:20230208T190000
DTEND;TZID=UTC:20230208T213000
DTSTAMP:20260420T050316
CREATED:20221228T120842Z
LAST-MODIFIED:20230201T193143Z
UID:515-1675882800-1675891800@sammacentrum.com
SUMMARY:Start Meditatiecursus Bunnik
DESCRIPTION:
URL:https://sammacentrum.com/event/https-innerlicht-nl-meditatiecursus-indoor-meditatie/
LOCATION:Bunnik\, Smalleweg 8A\, Bunnik\, 3981 EG\, Nederland
END:VEVENT
BEGIN:VEVENT
DTSTART;TZID=UTC:20230114T093000
DTEND;TZID=UTC:20230114T163000
DTSTAMP:20260420T050316
CREATED:20221227T204642Z
LAST-MODIFIED:20221228T115423Z
UID:486-1673688600-1673713800@sammacentrum.com
SUMMARY:Familie-opstellingen dag (u kunt een opstelling aanvragen)
DESCRIPTION:
URL:https://sammacentrum.com/event/familie-opstellingen-dag-u-kunt-een-opstelling-aanvragen/
LOCATION:Geel\, België
END:VEVENT
BEGIN:VEVENT
DTSTART;TZID=UTC:20221028T130000
DTEND;TZID=UTC:20221028T170000
DTSTAMP:20260420T050316
CREATED:20221228T114407Z
LAST-MODIFIED:20221228T114407Z
UID:343-1666962000-1666976400@sammacentrum.com
SUMMARY:Cursus Werken met je Intuïtie (Vol)
DESCRIPTION:
URL:https://sammacentrum.com/event/cursus-werken-met-je-intuitie-vol/
LOCATION:Breda\, Breda\, Nederland
END:VEVENT
END:VCALENDAR