BEGIN:VCALENDAR
VERSION:2.0
PRODID:-//Samma, Centrum voor Ontwikkeling &amp; Groei - ECPv6.15.20//NONSGML v1.0//EN
CALSCALE:GREGORIAN
METHOD:PUBLISH
X-ORIGINAL-URL:https://sammacentrum.com
X-WR-CALDESC:Evenementen voor Samma, Centrum voor Ontwikkeling &amp; Groei
REFRESH-INTERVAL;VALUE=DURATION:PT1H
X-Robots-Tag:noindex
X-PUBLISHED-TTL:PT1H
BEGIN:VTIMEZONE
TZID:UTC
BEGIN:STANDARD
TZOFFSETFROM:+0000
TZOFFSETTO:+0000
TZNAME:UTC
DTSTART:20250101T000000
END:STANDARD
END:VTIMEZONE
BEGIN:VEVENT
DTSTART;TZID=UTC:20260509T100000
DTEND;TZID=UTC:20260509T160000
DTSTAMP:20260419T123352
CREATED:20260326T205318Z
LAST-MODIFIED:20260326T205318Z
UID:2087-1778320800-1778342400@sammacentrum.com
SUMMARY:Verdiepingscursus Werken met Chakra's (besloten groep)
DESCRIPTION:
URL:https://sammacentrum.com/event/verdiepingscursus-werken-met-chakras-besloten-groep/
LOCATION:Bunnik\, Smalleweg 8A\, Bunnik\, 3981 EG\, Nederland
END:VEVENT
BEGIN:VEVENT
DTSTART;TZID=UTC:20260523T103000
DTEND;TZID=UTC:20260523T130000
DTSTAMP:20260419T123352
CREATED:20260326T204453Z
LAST-MODIFIED:20260326T204536Z
UID:2079-1779532200-1779541200@sammacentrum.com
SUMMARY:Bijeenkomst 4 cursus Calm Mind\, Clear Mind
DESCRIPTION:
URL:https://sammacentrum.com/event/bijeenkomst-4-cursus-calm-mind-clear-mind/
LOCATION:De Meern\, Netherlands
END:VEVENT
END:VCALENDAR