BEGIN:VCALENDAR
VERSION:2.0
PRODID:-//Samma, Centrum voor Ontwikkeling &amp; Groei - ECPv6.15.20//NONSGML v1.0//EN
CALSCALE:GREGORIAN
METHOD:PUBLISH
X-ORIGINAL-URL:https://sammacentrum.com
X-WR-CALDESC:Evenementen voor Samma, Centrum voor Ontwikkeling &amp; Groei
REFRESH-INTERVAL;VALUE=DURATION:PT1H
X-Robots-Tag:noindex
X-PUBLISHED-TTL:PT1H
BEGIN:VTIMEZONE
TZID:UTC
BEGIN:STANDARD
TZOFFSETFROM:+0000
TZOFFSETTO:+0000
TZNAME:UTC
DTSTART:20250101T000000
END:STANDARD
END:VTIMEZONE
BEGIN:VEVENT
DTSTART;TZID=UTC:20260606T100000
DTEND;TZID=UTC:20260606T160000
DTSTAMP:20260419T134610
CREATED:20260326T205712Z
LAST-MODIFIED:20260326T205712Z
UID:2091-1780740000-1780761600@sammacentrum.com
SUMMARY:Leerlingendag (besloten groep) over Liefdevolle Vriendelijkheid
DESCRIPTION:
URL:https://sammacentrum.com/event/leerlingendag-besloten-groep-over-liefdevolle-vriendelijkheid/
LOCATION:Bunnik\, Smalleweg 8A\, Bunnik\, 3981 EG\, Nederland
END:VEVENT
END:VCALENDAR