BEGIN:VCALENDAR
VERSION:2.0
PRODID:-//Samma, Centrum voor Ontwikkeling &amp; Groei - ECPv6.15.20//NONSGML v1.0//EN
CALSCALE:GREGORIAN
METHOD:PUBLISH
X-WR-CALNAME:Samma, Centrum voor Ontwikkeling &amp; Groei
X-ORIGINAL-URL:https://sammacentrum.com
X-WR-CALDESC:Evenementen voor Samma, Centrum voor Ontwikkeling &amp; Groei
REFRESH-INTERVAL;VALUE=DURATION:PT1H
X-Robots-Tag:noindex
X-PUBLISHED-TTL:PT1H
BEGIN:VTIMEZONE
TZID:UTC
BEGIN:STANDARD
TZOFFSETFROM:+0000
TZOFFSETTO:+0000
TZNAME:UTC
DTSTART:20250101T000000
END:STANDARD
END:VTIMEZONE
BEGIN:VEVENT
DTSTART;TZID=UTC:20261003T100000
DTEND;TZID=UTC:20261003T160000
DTSTAMP:20260419T191428
CREATED:20260326T211131Z
LAST-MODIFIED:20260326T211131Z
UID:2115-1791021600-1791043200@sammacentrum.com
SUMMARY:Leerlingendag (besloten groep)
DESCRIPTION:
URL:https://sammacentrum.com/event/leerlingendag-besloten-groep/
LOCATION:Bunnik\, Smalleweg 8A\, Bunnik\, 3981 EG\, Nederland
END:VEVENT
BEGIN:VEVENT
DTSTART;TZID=UTC:20261010T100000
DTEND;TZID=UTC:20261010T160000
DTSTAMP:20260419T191428
CREATED:20260326T210946Z
LAST-MODIFIED:20260326T210946Z
UID:2113-1791626400-1791648000@sammacentrum.com
SUMMARY:Opleiding Compassie-ambassadeur lesdag 1
DESCRIPTION:
URL:https://sammacentrum.com/event/opleiding-compassie-ambassadeur-lesdag-1-2/
LOCATION:Bunnik\, Smalleweg 8A\, Bunnik\, 3981 EG\, Nederland
END:VEVENT
BEGIN:VEVENT
DTSTART;TZID=UTC:20261011T100000
DTEND;TZID=UTC:20261011T160000
DTSTAMP:20260419T191428
CREATED:20260326T211330Z
LAST-MODIFIED:20260326T211330Z
UID:2117-1791712800-1791734400@sammacentrum.com
SUMMARY:Cursus Leven en Werken vanuit je intuïtie lesdag 1
DESCRIPTION:
URL:https://sammacentrum.com/event/cursus-leven-en-werken-vanuit-je-intuitie-lesdag-1/
LOCATION:Zandhoven\, Belgium
END:VEVENT
BEGIN:VEVENT
DTSTART;TZID=UTC:20261031T100000
DTEND;TZID=UTC:20261031T160000
DTSTAMP:20260419T191428
CREATED:20260326T210143Z
LAST-MODIFIED:20260326T210143Z
UID:2100-1793440800-1793462400@sammacentrum.com
SUMMARY:Opleiding Compassie-trainer lesdag 2
DESCRIPTION:
URL:https://sammacentrum.com/event/opleiding-compassie-trainer-lesdag-2/
LOCATION:Bunnik\, Smalleweg 8A\, Bunnik\, 3981 EG\, Nederland
END:VEVENT
END:VCALENDAR